BEGIN:VCALENDAR
VERSION:2.0
PRODID:-//Välkommen till Bjursås webbplats - Bjursås sockenråd - ECPv6.15.16//NONSGML v1.0//EN
CALSCALE:GREGORIAN
METHOD:PUBLISH
X-ORIGINAL-URL:https://bjursas.se
X-WR-CALDESC:Händelser för Välkommen till Bjursås webbplats - Bjursås sockenråd
REFRESH-INTERVAL;VALUE=DURATION:PT1H
X-Robots-Tag:noindex
X-PUBLISHED-TTL:PT1H
BEGIN:VTIMEZONE
TZID:Europe/Paris
BEGIN:DAYLIGHT
TZOFFSETFROM:+0100
TZOFFSETTO:+0200
TZNAME:CEST
DTSTART:20240331T010000
END:DAYLIGHT
BEGIN:STANDARD
TZOFFSETFROM:+0200
TZOFFSETTO:+0100
TZNAME:CET
DTSTART:20241027T010000
END:STANDARD
BEGIN:DAYLIGHT
TZOFFSETFROM:+0100
TZOFFSETTO:+0200
TZNAME:CEST
DTSTART:20250330T010000
END:DAYLIGHT
BEGIN:STANDARD
TZOFFSETFROM:+0200
TZOFFSETTO:+0100
TZNAME:CET
DTSTART:20251026T010000
END:STANDARD
BEGIN:DAYLIGHT
TZOFFSETFROM:+0100
TZOFFSETTO:+0200
TZNAME:CEST
DTSTART:20260329T010000
END:DAYLIGHT
BEGIN:STANDARD
TZOFFSETFROM:+0200
TZOFFSETTO:+0100
TZNAME:CET
DTSTART:20261025T010000
END:STANDARD
END:VTIMEZONE
BEGIN:VEVENT
DTSTART;TZID=Europe/Paris:20251222T110000
DTEND;TZID=Europe/Paris:20251222T170000
DTSTAMP:20260424T054601
CREATED:20250628T105312Z
LAST-MODIFIED:20251107T092832Z
UID:79507-1766401200-1766422800@bjursas.se
SUMMARY:ÅRETS SISTA JULMARKNAD SÅGMYRA
DESCRIPTION:Årets sista Julmarknad?! \nDen 22 december är det dags att bege sig till Sågmyra för att fira in Julen\, träffa tomten och handla det sista inför jul. \nKlassisk julmarknad – med knallar både ute och inomhus \nvill du medverka som knalle? Kontakta oss på mail info@sagmyrabyggnadsvard.se
URL:https://bjursas.se/evenemang/arets-sista-julmarknad-sagmyra/
LOCATION:Ylletorget Sågmyra\, Tidstrandsvägen 3\, Sågmyra\, 79022\, Sweden
ORGANIZER;CN="S%C3%A5gmyra Byggnadsv%C3%A5rd & K%C3%B6kshandel":MAILTO:info@sagmyrabyggnadsvard.se
END:VEVENT
END:VCALENDAR