BEGIN:VCALENDAR
VERSION:2.0
PRODID:-//Välkommen till Bjursås webbplats - Bjursås sockenråd - ECPv6.15.16//NONSGML v1.0//EN
CALSCALE:GREGORIAN
METHOD:PUBLISH
X-ORIGINAL-URL:https://bjursas.se
X-WR-CALDESC:Händelser för Välkommen till Bjursås webbplats - Bjursås sockenråd
REFRESH-INTERVAL;VALUE=DURATION:PT1H
X-Robots-Tag:noindex
X-PUBLISHED-TTL:PT1H
BEGIN:VTIMEZONE
TZID:Europe/Paris
BEGIN:DAYLIGHT
TZOFFSETFROM:+0100
TZOFFSETTO:+0200
TZNAME:CEST
DTSTART:20230326T010000
END:DAYLIGHT
BEGIN:STANDARD
TZOFFSETFROM:+0200
TZOFFSETTO:+0100
TZNAME:CET
DTSTART:20231029T010000
END:STANDARD
BEGIN:DAYLIGHT
TZOFFSETFROM:+0100
TZOFFSETTO:+0200
TZNAME:CEST
DTSTART:20240331T010000
END:DAYLIGHT
BEGIN:STANDARD
TZOFFSETFROM:+0200
TZOFFSETTO:+0100
TZNAME:CET
DTSTART:20241027T010000
END:STANDARD
BEGIN:DAYLIGHT
TZOFFSETFROM:+0100
TZOFFSETTO:+0200
TZNAME:CEST
DTSTART:20250330T010000
END:DAYLIGHT
BEGIN:STANDARD
TZOFFSETFROM:+0200
TZOFFSETTO:+0100
TZNAME:CET
DTSTART:20251026T010000
END:STANDARD
END:VTIMEZONE
BEGIN:VEVENT
DTSTART;TZID=Europe/Paris:20241213T180000
DTEND;TZID=Europe/Paris:20241213T190000
DTSTAMP:20260424T035503
CREATED:20241206T091024Z
LAST-MODIFIED:20241206T091024Z
UID:78435-1734112800-1734116400@bjursas.se
SUMMARY:Luciafirande i Bjursås kyrka
DESCRIPTION:Luciatåg med barn under ledning av Eva Rune. Varmt välkomna!
URL:https://bjursas.se/evenemang/luciafirande-i-bjursas-kyrka/
LOCATION:Bjursås kyrka\, Bjursåsvägen 27\, Bjursås\, 79021\, Sweden
ATTACH;FMTTYPE=image/jpeg:https://bjursas.se/wp-content/uploads/2024/12/1246012-scaled.jpg
END:VEVENT
BEGIN:VEVENT
DTSTART;TZID=Europe/Paris:20241208T180000
DTEND;TZID=Europe/Paris:20241208T190000
DTSTAMP:20260424T035503
CREATED:20241206T090323Z
LAST-MODIFIED:20241206T090323Z
UID:78428-1733680800-1733684400@bjursas.se
SUMMARY:Svensk polska möter Chopin
DESCRIPTION:2 Advent -Musikgudstjänst.  Bjursås spelmanslag under ledning av Bo Olsson. Organisten Michal Tomasz Wodrowski vid pianot. I programmet folkmusik samt Mazurkas av F Chopin
URL:https://bjursas.se/evenemang/svensk-polska-moter-chopin/
LOCATION:Sågmyra kyrka\, Vidåsvägen 1\, Sågmyra\, 79022\, Sweden
ATTACH;FMTTYPE=image/jpeg:https://bjursas.se/wp-content/uploads/2024/12/1014239-scaled.jpg
ORGANIZER;CN="Bjurs%C3%A5s f%C3%B6rsamling":MAILTO:bjursas.forsamling@svenskakyrkan.se
END:VEVENT
BEGIN:VEVENT
DTSTART;TZID=Europe/Paris:20241130T100000
DTEND;TZID=Europe/Paris:20241130T160000
DTSTAMP:20260424T035503
CREATED:20241126T211641Z
LAST-MODIFIED:20241126T211641Z
UID:78347-1732960800-1732982400@bjursas.se
SUMMARY:Gammaldags Julmarknad - Björsgården 30 november
DESCRIPTION:
URL:https://bjursas.se/evenemang/gammaldags-julmarknad-bjorsgarden-30-november/
LOCATION:Björsgården\, Bjursåsvägen 4\, BJURSÅS\, 79021\, Sweden
END:VEVENT
BEGIN:VEVENT
DTSTART;TZID=Europe/Paris:20241123T100000
DTEND;TZID=Europe/Paris:20241123T160000
DTSTAMP:20260424T035503
CREATED:20241016T164947Z
LAST-MODIFIED:20241016T164947Z
UID:78102-1732356000-1732377600@bjursas.se
SUMMARY:Smygstarta julen på Rotens
DESCRIPTION:Välkommen att smygstarta julen tillsammans med oss på Rotens!Vi laddar upp inför 1:a advent med härliga julblommor\, fina presenter\, glögg\, pyssel\, skönsång och en och annan överraskning!\nSpara datumet\, mer info kommer längre fram!
URL:https://bjursas.se/evenemang/smygstarta-julen-pa-rotens/
LOCATION:Rotens Trädgård\, Skovägen 8\, Bjursås\, 790 21\, Sweden
ORGANIZER;CN="Rotens Tr%C3%A4dg%C3%A5rd":MAILTO:rotenstradgard@gmail.com
END:VEVENT
BEGIN:VEVENT
DTSTART;TZID=Europe/Paris:20241109T190000
DTEND;TZID=Europe/Paris:20241110T010000
DTSTAMP:20260424T035503
CREATED:20241029T200045Z
LAST-MODIFIED:20241029T200609Z
UID:78184-1731178800-1731200400@bjursas.se
SUMMARY:Festkväll på Dössberget kök och café
DESCRIPTION:
URL:https://bjursas.se/evenemang/festkvall-pa-dossberget-kok-och-cafe/
LOCATION:Dössberget\, Proselins väg 8\, Bjursås\, Dalarna\, 790 21\, Sweden
ORGANIZER;CN="D%C3%B6ssberget k%C3%B6k &amp%3B caf%C3%A9":MAILTO:info@dossberget.se
END:VEVENT
BEGIN:VEVENT
DTSTART;TZID=Europe/Paris:20241108T110000
DTEND;TZID=Europe/Paris:20241108T140000
DTSTAMP:20260424T035503
CREATED:20241029T200408Z
LAST-MODIFIED:20241029T200517Z
UID:78189-1731063600-1731074400@bjursas.se
SUMMARY:Fredagslunch på Dössberget kök & café
DESCRIPTION:
URL:https://bjursas.se/evenemang/fredagslunch-pa-dossberget-kok-cafe/
LOCATION:Dössberget\, Proselins väg 8\, Bjursås\, Dalarna\, 790 21\, Sweden
ORGANIZER;CN="D%C3%B6ssberget k%C3%B6k &amp%3B caf%C3%A9":MAILTO:info@dossberget.se
END:VEVENT
BEGIN:VEVENT
DTSTART;TZID=Europe/Paris:20241102T150000
DTEND;TZID=Europe/Paris:20241102T170000
DTSTAMP:20260424T035503
CREATED:20241024T201624Z
LAST-MODIFIED:20241024T201624Z
UID:78154-1730559600-1730566800@bjursas.se
SUMMARY:After ski på Bäverhyddan
DESCRIPTION:Vi smygstartar vintern med årets första Afterski med trubadur i Bäverhyddan.\nVar med och skapa den rätta after ski känslan. KOM SKIDKLÄDDA
URL:https://bjursas.se/evenemang/after-ski-pa-baverhyddan/
LOCATION:Bjursås Berg & Sjö\, Björsbergsvägen 65\, Bjursås\, 79021\, Sweden
ORGANIZER;CN="Bjurs%C3%A5s Berg & Sj%C3%B6":MAILTO:info@bjursas.com
END:VEVENT
BEGIN:VEVENT
DTSTART;TZID=Europe/Paris:20241102T100000
DTEND;TZID=Europe/Paris:20241102T150000
DTSTAMP:20260424T035503
CREATED:20241024T201422Z
LAST-MODIFIED:20241024T201422Z
UID:78151-1730541600-1730559600@bjursas.se
SUMMARY:Utförsäljning skidutrustning
DESCRIPTION:Bjursås Berg & Sjö har utförsäljning av skidutrustning utanför Bäverhyddan.\nSkidor från längderna 130 cm och uppåt\nPjäxor i storlek 25-46 \nPlus butiksvaror t ex hjälmar\, goggles\, stavar och Bjursås Berg & Sjö kläder. \nMen det händer mer kul. Läs allt på https://www.bjursas.com/vinter/gora-o-ata/hostlov/ \nVälkomna!
URL:https://bjursas.se/evenemang/utforsaljning-skidutrustning/
LOCATION:Bjursås Berg & Sjö\, Björsbergsvägen 65\, Bjursås\, 79021\, Sweden
ORGANIZER;CN="Bjurs%C3%A5s Berg & Sj%C3%B6":MAILTO:info@bjursas.com
END:VEVENT
BEGIN:VEVENT
DTSTART;TZID=Europe/Paris:20241102T100000
DTEND;TZID=Europe/Paris:20241102T150000
DTSTAMP:20260424T035503
CREATED:20241024T200839Z
LAST-MODIFIED:20241024T200839Z
UID:78147-1730541600-1730559600@bjursas.se
SUMMARY:Draghundstur
DESCRIPTION:Åk hundspann på barmark hos Bjursås Berg & Sjö. En häftig upplevelse där draghundar drar er på släde med hjul genom skog. Världsmästarinnan i draghund Annika Jansson tar er på en upplevelse ni sent kommer glömma. Vagnen har plats för 2 barn eller 1 vuxen och 1 barn. Ca 10 minuter/runda. \nPris 250 kr \nBoka
URL:https://bjursas.se/evenemang/draghundstur/
LOCATION:Bjursås Berg & Sjö\, Björsbergsvägen 65\, Bjursås\, 79021\, Sweden
ATTACH;FMTTYPE=image/jpeg:https://bjursas.se/wp-content/uploads/2024/10/Draghund-barmark.jpg
ORGANIZER;CN="Bjurs%C3%A5s Berg & Sj%C3%B6":MAILTO:info@bjursas.com
END:VEVENT
BEGIN:VEVENT
DTSTART;TZID=Europe/Paris:20241101T150000
DTEND;TZID=Europe/Paris:20241101T170000
DTSTAMP:20260424T035503
CREATED:20241024T195547Z
LAST-MODIFIED:20241024T200157Z
UID:78143-1730473200-1730480400@bjursas.se
SUMMARY:Bjurres barndisco
DESCRIPTION:Välkomna till Bäverhyddan för Bjurres barndisco och dansa med Bjurre Bäver. \nKostnadsfritt inträde \nFika finns att köpa \nSe allt höstlovskul på https://www.bjursas.com/vinter/gora-o-ata/hostlov/
URL:https://bjursas.se/evenemang/bjurres-barndisco/
LOCATION:Bjursås Berg & Sjö\, Björsbergsvägen 65\, Bjursås\, 79021\, Sweden
ATTACH;FMTTYPE=image/png:https://bjursas.se/wp-content/uploads/2024/10/Bjurre.png
ORGANIZER;CN="Bjurs%C3%A5s Berg & Sj%C3%B6":MAILTO:info@bjursas.com
END:VEVENT
BEGIN:VEVENT
DTSTART;TZID=Europe/Paris:20241027T130000
DTEND;TZID=Europe/Paris:20241027T160000
DTSTAMP:20260424T035503
CREATED:20240819T154606Z
LAST-MODIFIED:20240819T154606Z
UID:77836-1730034000-1730044800@bjursas.se
SUMMARY:Workshop Kransbinderi
DESCRIPTION:27/10 Workshop Kransbinderi\nMed Carolina och Karin på Rotens\, kl 13-16\n\nBoka plats på https://www.nortic.se/ticket/event/59861
URL:https://bjursas.se/evenemang/workshop-kransbinderi/
LOCATION:Rotens Trädgård\, Skovägen 8\, Bjursås\, 790 21\, Sweden
ATTACH;FMTTYPE=image/jpeg:https://bjursas.se/wp-content/uploads/2024/08/Workshop-Kransbinderi.jpg
ORGANIZER;CN="Rotens Tr%C3%A4dg%C3%A5rd":MAILTO:rotenstradgard@gmail.com
END:VEVENT
BEGIN:VEVENT
DTSTART;TZID=Europe/Paris:20241020T100000
DTEND;TZID=Europe/Paris:20241020T130000
DTSTAMP:20260424T035503
CREATED:20240819T154343Z
LAST-MODIFIED:20240819T154343Z
UID:77833-1729418400-1729429200@bjursas.se
SUMMARY:Workshop Skapa egen jord – kompostkurs
DESCRIPTION:20/10: Workshop Skapa egen jord – kompostkurs\nmed Markus på Rotens\, kl 10-13.\n\nBoka plats på https://www.nortic.se/ticket/event/59860
URL:https://bjursas.se/evenemang/workshop-skapa-egen-jord-kompostkurs/
LOCATION:Rotens Trädgård\, Skovägen 8\, Bjursås\, 790 21\, Sweden
ATTACH;FMTTYPE=image/jpeg:https://bjursas.se/wp-content/uploads/2024/08/Workshop-Skapa-egen-jord-–-kompostkurs.jpg
ORGANIZER;CN="Rotens Tr%C3%A4dg%C3%A5rd":MAILTO:rotenstradgard@gmail.com
END:VEVENT
BEGIN:VEVENT
DTSTART;TZID=Europe/Paris:20240929T100000
DTEND;TZID=Europe/Paris:20240929T160000
DTSTAMP:20260424T035503
CREATED:20240819T154056Z
LAST-MODIFIED:20240819T154056Z
UID:77830-1727604000-1727625600@bjursas.se
SUMMARY:Workshop: Akvarellkurs
DESCRIPTION:Sön 29/9 Workshop: Akvarellkurs\nMed Anna Askerdal aka Sagogryn Art\, kl 10-16.\nBoka plats på https://www.nortic.se/ticket/event/60218
URL:https://bjursas.se/evenemang/workshop-akvarellkurs/
LOCATION:Rotens Trädgård\, Skovägen 8\, Bjursås\, 790 21\, Sweden
ATTACH;FMTTYPE=image/jpeg:https://bjursas.se/wp-content/uploads/2024/08/Workshop-Akvarellkurs.jpg
ORGANIZER;CN="Rotens Tr%C3%A4dg%C3%A5rd":MAILTO:rotenstradgard@gmail.com
END:VEVENT
BEGIN:VEVENT
DTSTART;TZID=Europe/Paris:20240914T110000
DTEND;TZID=Europe/Paris:20240914T150000
DTSTAMP:20260424T035503
CREATED:20240909T182846Z
LAST-MODIFIED:20240909T183217Z
UID:77940-1726311600-1726326000@bjursas.se
SUMMARY:Sågmyra Country & Harvest Festival
DESCRIPTION:Välkommen till Sågmyra Country & Harvest Festival\nSkördemarknad \nPickisutställning \nBarnaktiviteter \nOpen stage Akustik Country/Bluegrass\nMax 2 personer – anmälan info@sagmyrabyggnadsvard.se
URL:https://bjursas.se/evenemang/sagmyra-country-harvest-festival/
LOCATION:Tidstrandsvägen 3\, Sågmyra\, Tidstrandsvägen 3\, Sågmyra\, Sweden
ATTACH;FMTTYPE=image/jpeg:https://bjursas.se/wp-content/uploads/2024/09/Country-and-harvest-festival-2024.jpeg
ORGANIZER;CN="S%C3%A5gmyra Byggnadsv%C3%A5rd & K%C3%B6kshandel":MAILTO:info@sagmyrabyggnadsvard.se
END:VEVENT
BEGIN:VEVENT
DTSTART;TZID=Europe/Paris:20240914T093000
DTEND;TZID=Europe/Paris:20240914T160000
DTSTAMP:20260424T035503
CREATED:20240819T070140Z
LAST-MODIFIED:20240819T153519Z
UID:77794-1726306200-1726329600@bjursas.se
SUMMARY:Vildmarksloppet
DESCRIPTION:Traillopp i distanserna 32\, 15\, och 7\,5 km. För barn 1\,5 och 3 km. \nArrangör: Bjursås IK \nInformation och anmälan: https://www.bjursasik.se/start/?ID=374858 \n 
URL:https://bjursas.se/evenemang/vildmarksloppet/
LOCATION:Bjursås Berg & Sjö\, Björsbergsvägen 65\, Bjursås\, 79021\, Sweden
ATTACH;FMTTYPE=image/jpeg:https://bjursas.se/wp-content/uploads/2023/08/Vildmarksloppet-2360x600-toppbild-hemsida-scaled-1.jpg
ORGANIZER;CN="Bjurs%C3%A5s IK":MAILTO:info@bjursasik.se
END:VEVENT
BEGIN:VEVENT
DTSTART;TZID=Europe/Paris:20240908T100000
DTEND;TZID=Europe/Paris:20240908T160000
DTSTAMP:20260424T035503
CREATED:20240819T153228Z
LAST-MODIFIED:20240819T153228Z
UID:77823-1725789600-1725811200@bjursas.se
SUMMARY:Workshop: Kreativ rya – prova på vävteknik utan vävstol
DESCRIPTION:Sön 8/9 Workshop: Kreativ rya – prova på vävteknik utan vävstol\nMed vävaren och textilkonstnären Miriam Parkman från Härnösand/Sthlm\, kl 10-16.\n\nBoka på https://www.nortic.se/ticket/organizer/3378
URL:https://bjursas.se/evenemang/workshop-kreativ-rya-prova-pa-vavteknik-utan-vavstol/
LOCATION:Rotens Trädgård\, Skovägen 8\, Bjursås\, 790 21\, Sweden
ATTACH;FMTTYPE=image/jpeg:https://bjursas.se/wp-content/uploads/2024/08/Workshop-Kreativ-rya-–-prova-pa-vavteknik-utan-vavstol-.jpg
ORGANIZER;CN="Rotens Tr%C3%A4dg%C3%A5rd":MAILTO:rotenstradgard@gmail.com
END:VEVENT
BEGIN:VEVENT
DTSTART;TZID=Europe/Paris:20240907T100000
DTEND;TZID=Europe/Paris:20240907T160000
DTSTAMP:20260424T035503
CREATED:20240819T094703Z
LAST-MODIFIED:20240819T094703Z
UID:77800-1725703200-1725724800@bjursas.se
SUMMARY:GARDEN PARTY
DESCRIPTION:Lör 7/9 GARDEN PARTY på Rotens Trädgård i samband med Höstfest i Bjursås Socken\nMarknad\, DJ-Battle\, streetfood och upplevelser utöver det vanliga\, kl 10-16.\nhttps://rotenstradgard.se
URL:https://bjursas.se/evenemang/garden-party/
LOCATION:Rotens Trädgård\, Skovägen 8\, Bjursås\, 790 21\, Sweden
ATTACH;FMTTYPE=image/jpeg:https://bjursas.se/wp-content/uploads/2024/08/GARDEN-PARTY.jpg
ORGANIZER;CN="Rotens Tr%C3%A4dg%C3%A5rd":MAILTO:rotenstradgard@gmail.com
END:VEVENT
BEGIN:VEVENT
DTSTART;TZID=Europe/Paris:20240907T100000
DTEND;TZID=Europe/Paris:20240907T160000
DTSTAMP:20260424T035503
CREATED:20240819T062430Z
LAST-MODIFIED:20240904T193234Z
UID:77781-1725703200-1725724800@bjursas.se
SUMMARY:Höstfest i Bjursås Socken
DESCRIPTION:7 september är det Höstfest i Bjursås Socken.\nFöretag och föreningar i Bjursås och Sågmyra anordnar aktiviteter. Kl. 10-16 \nTipspromenad mellan platserna med chans att vinna priser. Hämta upp er svarstalong till tipspromenaden hos valfri aktör. \nFöretag och aktiviteter \nRotens Trädgård har Garden Party med Marknad\, DJ-battle och streetfood\nSvadlings kläder. Extra erbjudanden i butiken.\nSågmyra Byggnadsvård och Kökshandel. Specialerbjudande på linoljesåpa- köp 5 l och en 0\,5 l spraysåpa på köpet\nBjursås Lantbruk. försäljning av prynads- och halloweenpumpor. Provsitt gårdens traktor. Föredrag om grönsaksodlingen kl. 11 & 15.\nBjursås Sparbank. Visning veteranbrandbil och aktiviteter utanför banken\nBjursås Berg & Sjö. Prova på aktiviteter kostnadsfritt.\nCoop Bjursås. Skattjakt i butiken\nDinX Sågmyra. Sänkt pris 40 öre på bensin och diesel \nFöreningar och aktiviteter \nBjursås IK. Prova på längdskidor och MTB cykling kl. 11-13 på Bjurliden. Fikaförsäljning på Rotens.\nSågmyra SK. Prova på olika idrotter på Svensgården. Cirkelfys\, gym\, MTB\, baseball\, intervju och stavgång med Calle Halfvardsson\, löpskola\nBjursås Hembygdsförening. Björsgården öppet i handelsboden och cafét med flera fina erbjudanden\nSågmyra Hembygdsförening. Öppet hus i Ylle/Tidstrandsmuseum\nBjursås Församling. Café Gudagott öppet och Bjursås spelmanslag underhåller\nBjursås Snöskoterklubb. Aktivitet och uppvisning av skotrar utanför Björsgården\nSågmyra PRO. Prova-på boule på boulebanan \nVälkommen till en rolig dag i Bjursås Socken! 
URL:https://bjursas.se/evenemang/hostfest-i-bjursas-socken/
LOCATION:Bjursås & Sågmyra
ATTACH;FMTTYPE=image/jpeg:https://bjursas.se/wp-content/uploads/2024/08/bjursas-sockenvapen-logotype-for-webb.jpg
END:VEVENT
BEGIN:VEVENT
DTSTART;VALUE=DATE:20240907
DTEND;VALUE=DATE:20241001
DTSTAMP:20260424T035503
CREATED:20240819T153815Z
LAST-MODIFIED:20240819T153815Z
UID:77827-1725667200-1727740799@bjursas.se
SUMMARY:Konstutställning – M. Kalitzki
DESCRIPTION:7/9-30/9 Konstutställning – M. Kalitzki\nKonst som förenar fåglarnas naturliga elegans med graffitins dynamiska formspråk.
URL:https://bjursas.se/evenemang/konstutstallning-m-kalitzki/
LOCATION:Rotens Trädgård\, Skovägen 8\, Bjursås\, 790 21\, Sweden
ATTACH;FMTTYPE=image/jpeg:https://bjursas.se/wp-content/uploads/2024/08/Konstutstallning-–-M.-Kalitzki.jpg
ORGANIZER;CN="Rotens Tr%C3%A4dg%C3%A5rd":MAILTO:rotenstradgard@gmail.com
END:VEVENT
BEGIN:VEVENT
DTSTART;TZID=Europe/Paris:20240831T100000
DTEND;TZID=Europe/Paris:20240831T160000
DTSTAMP:20260424T035503
CREATED:20240807T131303Z
LAST-MODIFIED:20240807T131303Z
UID:77745-1725098400-1725120000@bjursas.se
SUMMARY:Familjens dag Dössberget
DESCRIPTION:
URL:https://bjursas.se/evenemang/familjens-dag-dossberget/
LOCATION:Dössberget\, Proselins väg 8\, Bjursås\, Dalarna\, 790 21\, Sweden
ATTACH;FMTTYPE=image/jpeg:https://bjursas.se/wp-content/uploads/2024/04/dossberget-160621-015-scaled-1.jpg
END:VEVENT
BEGIN:VEVENT
DTSTART;TZID=Europe/Paris:20240824T100000
DTEND;TZID=Europe/Paris:20240824T160000
DTSTAMP:20260424T035503
CREATED:20240819T065601Z
LAST-MODIFIED:20240819T133207Z
UID:77791-1724493600-1724515200@bjursas.se
SUMMARY:Workshop: Närodlade blomster\, lär dig binda bukett
DESCRIPTION:Workshop: Närodlade blomster\, lär dig binda bukett\nMed Carolina och Karin på Rotens\n\nAnmälan: https://www.nortic.se/ticket/organizer/3378
URL:https://bjursas.se/evenemang/workshop-narodlade-blomster-lar-dig-binda-bukett/
LOCATION:Rotens Trädgård\, Skovägen 8\, Bjursås\, 790 21\, Sweden
ATTACH;FMTTYPE=image/jpeg:https://bjursas.se/wp-content/uploads/2024/08/Workshop-Narodlade-blomster.jpg
ORGANIZER;CN="Rotens Tr%C3%A4dg%C3%A5rd":MAILTO:rotenstradgard@gmail.com
END:VEVENT
BEGIN:VEVENT
DTSTART;VALUE=DATE:20240807
DTEND;VALUE=DATE:20240902
DTSTAMP:20260424T035503
CREATED:20240819T065254Z
LAST-MODIFIED:20240819T065254Z
UID:77786-1722988800-1725235199@bjursas.se
SUMMARY:Konstutställning – Flora by Stormodig
DESCRIPTION:7/8-1/9 Konstutställning – Flora by Stormodig\nKonstfotoutställning med Catherine Lundmark
URL:https://bjursas.se/evenemang/konstutstallning-flora-by-stormodig/
LOCATION:Rotens Trädgård\, Skovägen 8\, Bjursås\, 790 21\, Sweden
ATTACH;FMTTYPE=image/jpeg:https://bjursas.se/wp-content/uploads/2024/08/Flora-by-Stormodig.jpg
ORGANIZER;CN="Rotens Tr%C3%A4dg%C3%A5rd":MAILTO:rotenstradgard@gmail.com
END:VEVENT
END:VCALENDAR