BEGIN:VCALENDAR
VERSION:2.0
PRODID:-//Välkommen till Bjursås webbplats - Bjursås sockenråd - ECPv6.15.16//NONSGML v1.0//EN
CALSCALE:GREGORIAN
METHOD:PUBLISH
X-WR-CALNAME:Välkommen till Bjursås webbplats - Bjursås sockenråd
X-ORIGINAL-URL:https://bjursas.se
X-WR-CALDESC:Händelser för Välkommen till Bjursås webbplats - Bjursås sockenråd
REFRESH-INTERVAL;VALUE=DURATION:PT1H
X-Robots-Tag:noindex
X-PUBLISHED-TTL:PT1H
BEGIN:VTIMEZONE
TZID:Europe/Paris
BEGIN:DAYLIGHT
TZOFFSETFROM:+0100
TZOFFSETTO:+0200
TZNAME:CEST
DTSTART:20240331T010000
END:DAYLIGHT
BEGIN:STANDARD
TZOFFSETFROM:+0200
TZOFFSETTO:+0100
TZNAME:CET
DTSTART:20241027T010000
END:STANDARD
BEGIN:DAYLIGHT
TZOFFSETFROM:+0100
TZOFFSETTO:+0200
TZNAME:CEST
DTSTART:20250330T010000
END:DAYLIGHT
BEGIN:STANDARD
TZOFFSETFROM:+0200
TZOFFSETTO:+0100
TZNAME:CET
DTSTART:20251026T010000
END:STANDARD
BEGIN:DAYLIGHT
TZOFFSETFROM:+0100
TZOFFSETTO:+0200
TZNAME:CEST
DTSTART:20260329T010000
END:DAYLIGHT
BEGIN:STANDARD
TZOFFSETFROM:+0200
TZOFFSETTO:+0100
TZNAME:CET
DTSTART:20261025T010000
END:STANDARD
END:VTIMEZONE
BEGIN:VEVENT
DTSTART;TZID=Europe/Paris:20251108T183000
DTEND;TZID=Europe/Paris:20251108T200000
DTSTAMP:20260419T202902
CREATED:20241008T062219Z
LAST-MODIFIED:20251023T140244Z
UID:78053-1762626600-1762632000@bjursas.se
SUMMARY:Spökvandring Bjursås Ridklubb
DESCRIPTION:Välkomna till Bjursås Ridklubbs årliga spökvandring \nStart mellan kl. 18.30-19.30 (tills kön är slut). Samling i ridhuset. \nDet är en spökvandring på ca 1 km i mörka skogen. Ni följer marschallerna så inga ficklampor ska användas. Se upp för diverse spökligheter. \nBarn under 10 år rekommenderas att ha vuxet sällskap. \nOlämpligt att ta med hund eller annat husdjur. \nKläder efter väder och oömma skor\, stövlar rekommenderas då det kan vara blött i marken. \nPris: 40 kr/person. \nVälkomna!
URL:https://bjursas.se/evenemang/spokvandring-bjursas-ridklubb/
LOCATION:Bjursås Ridklubb\, Proselins väg 19\, Bjursås\, 79021\, Sweden
ORGANIZER;CN="Bjurs%C3%A5s Ridklubb":MAILTO:bjursasridklubb@hotmail.se
END:VEVENT
END:VCALENDAR